BEGIN:VCALENDAR
VERSION:2.0
PRODID:-//Saint Joseph River Valley Fly Fishers Club - ECPv6.15.20//NONSGML v1.0//EN
CALSCALE:GREGORIAN
METHOD:PUBLISH
X-WR-CALNAME:Saint Joseph River Valley Fly Fishers Club
X-ORIGINAL-URL:https://sjrvff.com
X-WR-CALDESC:Events for Saint Joseph River Valley Fly Fishers Club
REFRESH-INTERVAL;VALUE=DURATION:PT1H
X-Robots-Tag:noindex
X-PUBLISHED-TTL:PT1H
BEGIN:VTIMEZONE
TZID:UTC
BEGIN:STANDARD
TZOFFSETFROM:+0000
TZOFFSETTO:+0000
TZNAME:UTC
DTSTART:20180101T000000
END:STANDARD
END:VTIMEZONE
BEGIN:VEVENT
DTSTART;VALUE=DATE:20190720
DTEND;VALUE=DATE:20190721
DTSTAMP:20260424T065229
CREATED:20190411T023805Z
LAST-MODIFIED:20190411T023805Z
UID:2615-1563580800-1563667199@sjrvff.com
SUMMARY:Women's Intro to Fly Fishing Class
DESCRIPTION:SJRVFF will be hosting a Women’s Intro to Fly Fishing Class on July 20th. The cost for the class is $25 per person and will hosted at High Dive Park in Elkhart. More information to come!
URL:https://sjrvff.com/event/womens-intro-to-fly-fishing-class
LOCATION:High Dive Park
END:VEVENT
END:VCALENDAR