BEGIN:VCALENDAR
VERSION:2.0
PRODID:-//Saint Joseph River Valley Fly Fishers Club - ECPv6.15.20//NONSGML v1.0//EN
CALSCALE:GREGORIAN
METHOD:PUBLISH
X-ORIGINAL-URL:https://sjrvff.com
X-WR-CALDESC:Events for Saint Joseph River Valley Fly Fishers Club
REFRESH-INTERVAL;VALUE=DURATION:PT1H
X-Robots-Tag:noindex
X-PUBLISHED-TTL:PT1H
BEGIN:VTIMEZONE
TZID:UTC
BEGIN:STANDARD
TZOFFSETFROM:+0000
TZOFFSETTO:+0000
TZNAME:UTC
DTSTART:20180101T000000
END:STANDARD
END:VTIMEZONE
BEGIN:VEVENT
DTSTART;TZID=UTC:20191016T183000
DTEND;TZID=UTC:20191016T203000
DTSTAMP:20260424T122849
CREATED:20191010T033028Z
LAST-MODIFIED:20191010T033028Z
UID:2987-1571250600-1571257800@sjrvff.com
SUMMARY:October General Meeting: Terry & Roxanne Wilson
DESCRIPTION:Come join us on Wednesday\, October 16th.  Terry and Roxanne will be providing a presentation on Bluegills.
URL:https://sjrvff.com/event/october-general-meeting-terry-roxanne-wilson
LOCATION:Juday Creek Golf Course\, 14770 Lindy Drive\, Granger\, 46530\, United States
END:VEVENT
END:VCALENDAR