BEGIN:VCALENDAR
VERSION:2.0
PRODID:-//Saint Joseph River Valley Fly Fishers Club - ECPv6.15.20//NONSGML v1.0//EN
CALSCALE:GREGORIAN
METHOD:PUBLISH
X-WR-CALNAME:Saint Joseph River Valley Fly Fishers Club
X-ORIGINAL-URL:https://sjrvff.com
X-WR-CALDESC:Events for Saint Joseph River Valley Fly Fishers Club
REFRESH-INTERVAL;VALUE=DURATION:PT1H
X-Robots-Tag:noindex
X-PUBLISHED-TTL:PT1H
BEGIN:VTIMEZONE
TZID:UTC
BEGIN:STANDARD
TZOFFSETFROM:+0000
TZOFFSETTO:+0000
TZNAME:UTC
DTSTART:20180101T000000
END:STANDARD
END:VTIMEZONE
BEGIN:VEVENT
DTSTART;VALUE=DATE:20190515
DTEND;VALUE=DATE:20190516
DTSTAMP:20260424T053455
CREATED:20190411T022213Z
LAST-MODIFIED:20190411T022213Z
UID:2613-1557878400-1557964799@sjrvff.com
SUMMARY:Club Picnic at ECC
DESCRIPTION:SJRVFF will be hosting a club picnic on May 15th at the Elkhart Conservation Club.
URL:https://sjrvff.com/event/club-picnic-at-ecc
LOCATION:Elkhart Conservation Club\, 55515 Riviera Drive\, Elkhart\, IN\, 46514
END:VEVENT
END:VCALENDAR