BEGIN:VCALENDAR
VERSION:2.0
PRODID:-//Saint Joseph River Valley Fly Fishers Club - ECPv6.15.20//NONSGML v1.0//EN
CALSCALE:GREGORIAN
METHOD:PUBLISH
X-WR-CALNAME:Saint Joseph River Valley Fly Fishers Club
X-ORIGINAL-URL:https://sjrvff.com
X-WR-CALDESC:Events for Saint Joseph River Valley Fly Fishers Club
REFRESH-INTERVAL;VALUE=DURATION:PT1H
X-Robots-Tag:noindex
X-PUBLISHED-TTL:PT1H
BEGIN:VTIMEZONE
TZID:UTC
BEGIN:STANDARD
TZOFFSETFROM:+0000
TZOFFSETTO:+0000
TZNAME:UTC
DTSTART:20180101T000000
END:STANDARD
END:VTIMEZONE
BEGIN:VEVENT
DTSTART;TZID=UTC:20190504T083000
DTEND;TZID=UTC:20190504T123000
DTSTAMP:20260424T041240
CREATED:20190415T033621Z
LAST-MODIFIED:20190415T033621Z
UID:2638-1556958600-1556973000@sjrvff.com
SUMMARY:Hoosier Riverwatch Workshop 2019: April 27th and May 4th
DESCRIPTION:Please join us May 4th for the 2019 Hoosier Riverwatch. Please check the link below for more details \n  \nHRW flyer 2019
URL:https://sjrvff.com/event/hoosier-riverwatch-workshop-2019-april-27th-and-may-4th
LOCATION:St. Pat’s Park\, 50651 Laurel Rd.\, South Bend\, IN\, United States
ATTACH;FMTTYPE=application/pdf:https://sjrvff.com/wp-content/uploads/2019/04/HRW-flyer-2019-2.pdf
END:VEVENT
END:VCALENDAR